BEGIN:VCALENDAR
VERSION:2.0
PRODID:-//Blackhall Bowling Club - ECPv6.15.20//NONSGML v1.0//EN
CALSCALE:GREGORIAN
METHOD:PUBLISH
X-WR-CALNAME:Blackhall Bowling Club
X-ORIGINAL-URL:https://blackhallbc.com
X-WR-CALDESC:Events for Blackhall Bowling Club
REFRESH-INTERVAL;VALUE=DURATION:PT1H
X-Robots-Tag:noindex
X-PUBLISHED-TTL:PT1H
BEGIN:VTIMEZONE
TZID:Europe/Paris
BEGIN:DAYLIGHT
TZOFFSETFROM:+0100
TZOFFSETTO:+0200
TZNAME:CEST
DTSTART:20250330T010000
END:DAYLIGHT
BEGIN:STANDARD
TZOFFSETFROM:+0200
TZOFFSETTO:+0100
TZNAME:CET
DTSTART:20251026T010000
END:STANDARD
BEGIN:DAYLIGHT
TZOFFSETFROM:+0100
TZOFFSETTO:+0200
TZNAME:CEST
DTSTART:20260329T010000
END:DAYLIGHT
BEGIN:STANDARD
TZOFFSETFROM:+0200
TZOFFSETTO:+0100
TZNAME:CET
DTSTART:20261025T010000
END:STANDARD
BEGIN:DAYLIGHT
TZOFFSETFROM:+0100
TZOFFSETTO:+0200
TZNAME:CEST
DTSTART:20270328T010000
END:DAYLIGHT
BEGIN:STANDARD
TZOFFSETFROM:+0200
TZOFFSETTO:+0100
TZNAME:CET
DTSTART:20271031T010000
END:STANDARD
END:VTIMEZONE
BEGIN:VEVENT
DTSTART;TZID=Europe/Paris:20260520T140000
DTEND;TZID=Europe/Paris:20260520T163000
DTSTAMP:20260424T163253
CREATED:20250330T164408Z
LAST-MODIFIED:20260128T094142Z
UID:2327-1779285600-1779294600@blackhallbc.com
SUMMARY:Wednesday Hat
DESCRIPTION:If you are playing please sign in by 1:45
URL:https://blackhallbc.com/event/wednesday-hat-5/
CATEGORIES:Social
END:VEVENT
BEGIN:VEVENT
DTSTART;TZID=Europe/Paris:20260520T183000
DTEND;TZID=Europe/Paris:20260520T233000
DTSTAMP:20260424T163253
CREATED:20250319T112524Z
LAST-MODIFIED:20260420T082448Z
UID:2040-1779301800-1779319800@blackhallbc.com
SUMMARY:EBA Wednesday League Whitehouse & Grange vs Blackhall
DESCRIPTION:
URL:https://blackhallbc.com/event/blackhall-vs-portobello/
CATEGORIES:League & Away Games
END:VEVENT
BEGIN:VEVENT
DTSTART;VALUE=DATE:20260521
DTEND;VALUE=DATE:20260522
DTSTAMP:20260424T163253
CREATED:20250421T112735Z
LAST-MODIFIED:20260424T101525Z
UID:2658-1779321600-1779407999@blackhallbc.com
SUMMARY:Green Closed after 5.00pm for EBA ties
DESCRIPTION:
URL:https://blackhallbc.com/event/green-open-31/
CATEGORIES:Green Maintenance,League & Away Games
END:VEVENT
BEGIN:VEVENT
DTSTART;TZID=Europe/Paris:20260521T133000
DTEND;TZID=Europe/Paris:20260521T170000
DTSTAMP:20260424T163253
CREATED:20250411T080457Z
LAST-MODIFIED:20260420T111557Z
UID:2496-1779370200-1779382800@blackhallbc.com
SUMMARY:North West League Trinity vs Blackhall Teams
DESCRIPTION:
URL:https://blackhallbc.com/event/north-west-league-goldenacre-vs-blackhall-teams-a-b/
CATEGORIES:League & Away Games
END:VEVENT
BEGIN:VEVENT
DTSTART;VALUE=DATE:20260522
DTEND;VALUE=DATE:20260523
DTSTAMP:20260424T163253
CREATED:20250421T112756Z
LAST-MODIFIED:20260128T141933Z
UID:2660-1779408000-1779494399@blackhallbc.com
SUMMARY:Green Open
DESCRIPTION:
URL:https://blackhallbc.com/event/green-open-32/
CATEGORIES:Green Maintenance
END:VEVENT
BEGIN:VEVENT
DTSTART;VALUE=DATE:20260523
DTEND;VALUE=DATE:20260524
DTSTAMP:20260424T163253
CREATED:20250421T112831Z
LAST-MODIFIED:20260128T141821Z
UID:2662-1779494400-1779580799@blackhallbc.com
SUMMARY:Green Open
DESCRIPTION:
URL:https://blackhallbc.com/event/green-open-33/
CATEGORIES:Green Maintenance
END:VEVENT
BEGIN:VEVENT
DTSTART;TZID=Europe/Paris:20260523T100000
DTEND;TZID=Europe/Paris:20260523T120000
DTSTAMP:20260424T163253
CREATED:20250330T162936Z
LAST-MODIFIED:20260420T083816Z
UID:2315-1779530400-1779537600@blackhallbc.com
SUMMARY:Saturday Coaching
DESCRIPTION:
URL:https://blackhallbc.com/event/saturday-coaching-20/
CATEGORIES:Club Meetings
END:VEVENT
BEGIN:VEVENT
DTSTART;VALUE=DATE:20260524
DTEND;VALUE=DATE:20260525
DTSTAMP:20260424T163253
CREATED:20250421T112852Z
LAST-MODIFIED:20260128T141751Z
UID:2664-1779580800-1779667199@blackhallbc.com
SUMMARY:Green Open
DESCRIPTION:
URL:https://blackhallbc.com/event/green-open-34/
CATEGORIES:Green Maintenance
END:VEVENT
BEGIN:VEVENT
DTSTART;VALUE=DATE:20260525
DTEND;VALUE=DATE:20260526
DTSTAMP:20260424T163253
CREATED:20250421T112917Z
LAST-MODIFIED:20260128T144150Z
UID:2666-1779667200-1779753599@blackhallbc.com
SUMMARY:Green Open
DESCRIPTION:
URL:https://blackhallbc.com/event/green-open-35/
CATEGORIES:Green Maintenance
END:VEVENT
BEGIN:VEVENT
DTSTART;TZID=Europe/Paris:20260525T183000
DTEND;TZID=Europe/Paris:20260525T233000
DTSTAMP:20260424T163253
CREATED:20250327T190050Z
LAST-MODIFIED:20260128T092559Z
UID:2201-1779733800-1779751800@blackhallbc.com
SUMMARY:Hat Night
DESCRIPTION:
URL:https://blackhallbc.com/event/hat-night-6/
CATEGORIES:Social
END:VEVENT
BEGIN:VEVENT
DTSTART;VALUE=DATE:20260526
DTEND;VALUE=DATE:20260527
DTSTAMP:20260424T163253
CREATED:20250421T112939Z
LAST-MODIFIED:20260128T141712Z
UID:2668-1779753600-1779839999@blackhallbc.com
SUMMARY:Green Open
DESCRIPTION:
URL:https://blackhallbc.com/event/green-open-36/
CATEGORIES:Green Maintenance
END:VEVENT
BEGIN:VEVENT
DTSTART;TZID=Europe/Paris:20260526T133000
DTEND;TZID=Europe/Paris:20260526T163000
DTSTAMP:20260424T163253
CREATED:20250327T170917Z
LAST-MODIFIED:20260420T090546Z
UID:2142-1779802200-1779813000@blackhallbc.com
SUMMARY:North West Senior League Blackhall vs Tanfield A
DESCRIPTION:
URL:https://blackhallbc.com/event/north-west-senior-league-vs-dean/
CATEGORIES:League & Away Games
END:VEVENT
BEGIN:VEVENT
DTSTART;TZID=Europe/Paris:20260526T183000
DTEND;TZID=Europe/Paris:20260526T183000
DTSTAMP:20260424T163253
CREATED:20260424T100806Z
LAST-MODIFIED:20260424T100852Z
UID:4017-1779820200-1779820200@blackhallbc.com
SUMMARY:Bowls Scotland Gents Singles @ Postal BC
DESCRIPTION:Jim Melles
URL:https://blackhallbc.com/event/bowls-scotland-gents-singles-postal-bc/
CATEGORIES:League & Away Games
END:VEVENT
BEGIN:VEVENT
DTSTART;VALUE=DATE:20260527
DTEND;VALUE=DATE:20260528
DTSTAMP:20260424T163253
CREATED:20250421T113015Z
LAST-MODIFIED:20260128T141641Z
UID:2670-1779840000-1779926399@blackhallbc.com
SUMMARY:Green Open
DESCRIPTION:
URL:https://blackhallbc.com/event/green-open-37/
CATEGORIES:Green Maintenance
END:VEVENT
BEGIN:VEVENT
DTSTART;TZID=Europe/Paris:20260527T140000
DTEND;TZID=Europe/Paris:20260527T163000
DTSTAMP:20260424T163253
CREATED:20250330T164500Z
LAST-MODIFIED:20260128T094225Z
UID:2329-1779890400-1779899400@blackhallbc.com
SUMMARY:Wednesday Hat
DESCRIPTION:If you are playing please sign in by 1:45
URL:https://blackhallbc.com/event/wednesday-hat-6/
CATEGORIES:Social
END:VEVENT
BEGIN:VEVENT
DTSTART;VALUE=DATE:20260528
DTEND;VALUE=DATE:20260529
DTSTAMP:20260424T163253
CREATED:20250421T113038Z
LAST-MODIFIED:20260128T141558Z
UID:2672-1779926400-1780012799@blackhallbc.com
SUMMARY:Green Open
DESCRIPTION:
URL:https://blackhallbc.com/event/green-open-38/
CATEGORIES:Green Maintenance
END:VEVENT
BEGIN:VEVENT
DTSTART;TZID=Europe/Paris:20260528T133000
DTEND;TZID=Europe/Paris:20260528T170000
DTSTAMP:20260424T163253
CREATED:20250411T080745Z
LAST-MODIFIED:20260420T111704Z
UID:2499-1779975000-1779987600@blackhallbc.com
SUMMARY:North West League Dean vs Blackhall
DESCRIPTION:
URL:https://blackhallbc.com/event/north-west-league-maitland-a-vs-blackhall-teams-a-c/
CATEGORIES:League & Away Games
END:VEVENT
BEGIN:VEVENT
DTSTART;TZID=Europe/Paris:20260528T183000
DTEND;TZID=Europe/Paris:20260528T213000
DTSTAMP:20260424T163253
CREATED:20250402T121442Z
LAST-MODIFIED:20260128T120210Z
UID:2438-1779993000-1780003800@blackhallbc.com
SUMMARY:Management Committee Meeting
DESCRIPTION:
URL:https://blackhallbc.com/event/management-committee-meeting-5/
CATEGORIES:Club Meetings
END:VEVENT
BEGIN:VEVENT
DTSTART;VALUE=DATE:20260529
DTEND;VALUE=DATE:20260530
DTSTAMP:20260424T163253
CREATED:20250421T113100Z
LAST-MODIFIED:20260128T144508Z
UID:2674-1780012800-1780099199@blackhallbc.com
SUMMARY:Green Open
DESCRIPTION:
URL:https://blackhallbc.com/event/green-open-39/
CATEGORIES:Green Maintenance
END:VEVENT
BEGIN:VEVENT
DTSTART;TZID=Europe/Paris:20260529T133000
DTEND;TZID=Europe/Paris:20260529T170000
DTSTAMP:20260424T163253
CREATED:20250411T125419Z
LAST-MODIFIED:20260420T075359Z
UID:2515-1780061400-1780074000@blackhallbc.com
SUMMARY:Forth League Blackhall vs Goldenacre
DESCRIPTION:
URL:https://blackhallbc.com/event/forth-league-hillside-vs-blackhall/
CATEGORIES:League & Away Games
END:VEVENT
BEGIN:VEVENT
DTSTART;TZID=Europe/Paris:20260529T133000
DTEND;TZID=Europe/Paris:20260529T170000
DTSTAMP:20260424T163253
CREATED:20260316T132641Z
LAST-MODIFIED:20260316T132647Z
UID:3903-1780061400-1780074000@blackhallbc.com
SUMMARY:Forth League
DESCRIPTION:3 Rinks
URL:https://blackhallbc.com/event/forth-league-2/
CATEGORIES:League & Away Games
END:VEVENT
BEGIN:VEVENT
DTSTART;VALUE=DATE:20260530
DTEND;VALUE=DATE:20260531
DTSTAMP:20260424T163253
CREATED:20250421T113120Z
LAST-MODIFIED:20260128T141435Z
UID:2676-1780099200-1780185599@blackhallbc.com
SUMMARY:Green Open
DESCRIPTION:
URL:https://blackhallbc.com/event/green-open-40/
CATEGORIES:Green Maintenance
END:VEVENT
BEGIN:VEVENT
DTSTART;TZID=Europe/Paris:20260530T100000
DTEND;TZID=Europe/Paris:20260530T120000
DTSTAMP:20260424T163253
CREATED:20250330T161641Z
LAST-MODIFIED:20260420T083036Z
UID:2285-1780135200-1780142400@blackhallbc.com
SUMMARY:Saturday Coaching
DESCRIPTION:
URL:https://blackhallbc.com/event/saturday-coaching-7/
CATEGORIES:Club Meetings
END:VEVENT
BEGIN:VEVENT
DTSTART;VALUE=DATE:20260531
DTEND;VALUE=DATE:20260601
DTSTAMP:20260424T163253
CREATED:20250421T113201Z
LAST-MODIFIED:20260128T141403Z
UID:2678-1780185600-1780271999@blackhallbc.com
SUMMARY:Green Open
DESCRIPTION:
URL:https://blackhallbc.com/event/green-open-41/
CATEGORIES:Green Maintenance
END:VEVENT
BEGIN:VEVENT
DTSTART;VALUE=DATE:20260601
DTEND;VALUE=DATE:20260602
DTSTAMP:20260424T163253
CREATED:20250421T113254Z
LAST-MODIFIED:20260128T141327Z
UID:2680-1780272000-1780358399@blackhallbc.com
SUMMARY:Green Open
DESCRIPTION:
URL:https://blackhallbc.com/event/green-open-42/
CATEGORIES:Green Maintenance
END:VEVENT
BEGIN:VEVENT
DTSTART;TZID=Europe/Paris:20260601T183000
DTEND;TZID=Europe/Paris:20260601T230000
DTSTAMP:20260424T163253
CREATED:20250327T190139Z
LAST-MODIFIED:20260128T092641Z
UID:2203-1780338600-1780354800@blackhallbc.com
SUMMARY:Hat Night
DESCRIPTION:
URL:https://blackhallbc.com/event/hat-night-7/
CATEGORIES:Social
END:VEVENT
BEGIN:VEVENT
DTSTART;VALUE=DATE:20260602
DTEND;VALUE=DATE:20260603
DTSTAMP:20260424T163253
CREATED:20250421T113317Z
LAST-MODIFIED:20260128T141250Z
UID:2682-1780358400-1780444799@blackhallbc.com
SUMMARY:Green Open
DESCRIPTION:
URL:https://blackhallbc.com/event/green-open-43/
CATEGORIES:Green Maintenance
END:VEVENT
BEGIN:VEVENT
DTSTART;VALUE=DATE:20260603
DTEND;VALUE=DATE:20260604
DTSTAMP:20260424T163253
CREATED:20250421T113342Z
LAST-MODIFIED:20260128T141217Z
UID:2684-1780444800-1780531199@blackhallbc.com
SUMMARY:Green Open
DESCRIPTION:
URL:https://blackhallbc.com/event/green-open-44/
CATEGORIES:Green Maintenance
END:VEVENT
BEGIN:VEVENT
DTSTART;TZID=Europe/Paris:20260603T140000
DTEND;TZID=Europe/Paris:20260603T163000
DTSTAMP:20260424T163253
CREATED:20250330T164620Z
LAST-MODIFIED:20260128T094300Z
UID:2331-1780495200-1780504200@blackhallbc.com
SUMMARY:Wednesday Hat
DESCRIPTION:If you are playing please sign in by 1:45pm
URL:https://blackhallbc.com/event/wednesday-hat-7/
CATEGORIES:Social
END:VEVENT
BEGIN:VEVENT
DTSTART;TZID=Europe/Paris:20260603T183000
DTEND;TZID=Europe/Paris:20260603T233000
DTSTAMP:20260424T163253
CREATED:20250319T120912Z
LAST-MODIFIED:20260420T082807Z
UID:2046-1780511400-1780529400@blackhallbc.com
SUMMARY:EBA Wednesday League Blackhall vs Lutton Place
DESCRIPTION:
URL:https://blackhallbc.com/event/lutton-place-vs-blackhall/
CATEGORIES:League & Away Games
END:VEVENT
END:VCALENDAR