BEGIN:VCALENDAR
VERSION:2.0
PRODID:-//Blackhall Bowling Club - ECPv6.15.20//NONSGML v1.0//EN
CALSCALE:GREGORIAN
METHOD:PUBLISH
X-WR-CALNAME:Blackhall Bowling Club
X-ORIGINAL-URL:https://blackhallbc.com
X-WR-CALDESC:Events for Blackhall Bowling Club
REFRESH-INTERVAL;VALUE=DURATION:PT1H
X-Robots-Tag:noindex
X-PUBLISHED-TTL:PT1H
BEGIN:VTIMEZONE
TZID:Europe/Paris
BEGIN:DAYLIGHT
TZOFFSETFROM:+0100
TZOFFSETTO:+0200
TZNAME:CEST
DTSTART:20250330T010000
END:DAYLIGHT
BEGIN:STANDARD
TZOFFSETFROM:+0200
TZOFFSETTO:+0100
TZNAME:CET
DTSTART:20251026T010000
END:STANDARD
BEGIN:DAYLIGHT
TZOFFSETFROM:+0100
TZOFFSETTO:+0200
TZNAME:CEST
DTSTART:20260329T010000
END:DAYLIGHT
BEGIN:STANDARD
TZOFFSETFROM:+0200
TZOFFSETTO:+0100
TZNAME:CET
DTSTART:20261025T010000
END:STANDARD
BEGIN:DAYLIGHT
TZOFFSETFROM:+0100
TZOFFSETTO:+0200
TZNAME:CEST
DTSTART:20270328T010000
END:DAYLIGHT
BEGIN:STANDARD
TZOFFSETFROM:+0200
TZOFFSETTO:+0100
TZNAME:CET
DTSTART:20271031T010000
END:STANDARD
END:VTIMEZONE
BEGIN:VEVENT
DTSTART;TZID=Europe/Paris:20260504T180000
DTEND;TZID=Europe/Paris:20260504T230000
DTSTAMP:20260420T133504
CREATED:20250327T185700Z
LAST-MODIFIED:20260128T092257Z
UID:2195-1777917600-1777935600@blackhallbc.com
SUMMARY:Hat Night
DESCRIPTION:
URL:https://blackhallbc.com/event/hat-night-3/
CATEGORIES:Social
END:VEVENT
BEGIN:VEVENT
DTSTART;VALUE=DATE:20260505
DTEND;VALUE=DATE:20260506
DTSTAMP:20260420T133504
CREATED:20250421T111803Z
LAST-MODIFIED:20260128T143300Z
UID:2623-1777939200-1778025599@blackhallbc.com
SUMMARY:Green Open
DESCRIPTION:
URL:https://blackhallbc.com/event/green-open-14/
CATEGORIES:Green Maintenance
END:VEVENT
BEGIN:VEVENT
DTSTART;TZID=Europe/Paris:20260505T133000
DTEND;TZID=Europe/Paris:20260505T163000
DTSTAMP:20260420T133504
CREATED:20250422T141316Z
LAST-MODIFIED:20260420T090131Z
UID:2990-1777987800-1777998600@blackhallbc.com
SUMMARY:North West Senior League Corstorphine A vs Blackhall
DESCRIPTION:
URL:https://blackhallbc.com/event/north-west-senior-league-trinity-vs-blackhall/
CATEGORIES:League & Away Games
END:VEVENT
BEGIN:VEVENT
DTSTART;VALUE=DATE:20260506
DTEND;VALUE=DATE:20260507
DTSTAMP:20260420T133504
CREATED:20250421T111921Z
LAST-MODIFIED:20260128T143141Z
UID:2627-1778025600-1778111999@blackhallbc.com
SUMMARY:Green Open
DESCRIPTION:
URL:https://blackhallbc.com/event/green-open-16/
CATEGORIES:Green Maintenance
END:VEVENT
BEGIN:VEVENT
DTSTART;TZID=Europe/Paris:20260506T140000
DTEND;TZID=Europe/Paris:20260506T163000
DTSTAMP:20260420T133504
CREATED:20250330T164156Z
LAST-MODIFIED:20260128T094032Z
UID:2323-1778076000-1778085000@blackhallbc.com
SUMMARY:Wednesday Hat
DESCRIPTION:If playing please sign in by 1:45pm
URL:https://blackhallbc.com/event/wednesday-hat-3/
CATEGORIES:Social
END:VEVENT
BEGIN:VEVENT
DTSTART;TZID=Europe/Paris:20260506T183000
DTEND;TZID=Europe/Paris:20260506T230000
DTSTAMP:20260420T133504
CREATED:20250319T112417Z
LAST-MODIFIED:20260420T082026Z
UID:2038-1778092200-1778108400@blackhallbc.com
SUMMARY:EBA Wednesday League Braid vs Blackhall
DESCRIPTION:
URL:https://blackhallbc.com/event/blackhall-vs-ardmillian/
CATEGORIES:League & Away Games
END:VEVENT
BEGIN:VEVENT
DTSTART;VALUE=DATE:20260507
DTEND;VALUE=DATE:20260508
DTSTAMP:20260420T133504
CREATED:20250421T112106Z
LAST-MODIFIED:20260128T143042Z
UID:2629-1778112000-1778198399@blackhallbc.com
SUMMARY:Green Open
DESCRIPTION:
URL:https://blackhallbc.com/event/green-open-17/
CATEGORIES:Green Maintenance
END:VEVENT
BEGIN:VEVENT
DTSTART;TZID=Europe/Paris:20260507T133000
DTEND;TZID=Europe/Paris:20260507T170000
DTSTAMP:20260420T133504
CREATED:20250327T172033Z
LAST-MODIFIED:20260420T093823Z
UID:2161-1778160600-1778173200@blackhallbc.com
SUMMARY:North West League Blackhall vs Maitland A
DESCRIPTION:
URL:https://blackhallbc.com/event/north-west-league-blackhall-vs-wardie/
CATEGORIES:League & Away Games
END:VEVENT
BEGIN:VEVENT
DTSTART;VALUE=DATE:20260508
DTEND;VALUE=DATE:20260509
DTSTAMP:20260420T133504
CREATED:20250421T112125Z
LAST-MODIFIED:20260128T143004Z
UID:2631-1778198400-1778284799@blackhallbc.com
SUMMARY:Green Open
DESCRIPTION:
URL:https://blackhallbc.com/event/green-open-18/
CATEGORIES:Green Maintenance
END:VEVENT
BEGIN:VEVENT
DTSTART;TZID=Europe/Paris:20260508T133000
DTEND;TZID=Europe/Paris:20260508T170000
DTSTAMP:20260420T133504
CREATED:20250411T125101Z
LAST-MODIFIED:20260420T075021Z
UID:2513-1778247000-1778259600@blackhallbc.com
SUMMARY:Forth League Blackhall vs Trinity
DESCRIPTION:
URL:https://blackhallbc.com/event/forth-league-craigentinny-vs-blackhall/
CATEGORIES:League & Away Games
END:VEVENT
BEGIN:VEVENT
DTSTART;TZID=Europe/Paris:20260508T133000
DTEND;TZID=Europe/Paris:20260508T170000
DTSTAMP:20260420T133504
CREATED:20260316T132557Z
LAST-MODIFIED:20260316T132557Z
UID:3901-1778247000-1778259600@blackhallbc.com
SUMMARY:Forth League
DESCRIPTION:3 Rinks
URL:https://blackhallbc.com/event/forth-league/
CATEGORIES:League & Away Games
END:VEVENT
BEGIN:VEVENT
DTSTART;TZID=Europe/Paris:20260508T193000
DTEND;TZID=Europe/Paris:20260508T220000
DTSTAMP:20260420T133504
CREATED:20260128T091339Z
LAST-MODIFIED:20260128T091339Z
UID:3615-1778268600-1778277600@blackhallbc.com
SUMMARY:Blackhall Sports Committee
DESCRIPTION:
URL:https://blackhallbc.com/event/blackhall-sports-committee-10/
CATEGORIES:Hires
END:VEVENT
BEGIN:VEVENT
DTSTART;VALUE=DATE:20260509
DTEND;VALUE=DATE:20260510
DTSTAMP:20260420T133504
CREATED:20250421T112145Z
LAST-MODIFIED:20260128T142922Z
UID:2633-1778284800-1778371199@blackhallbc.com
SUMMARY:Green Open
DESCRIPTION:
URL:https://blackhallbc.com/event/green-open-19/
CATEGORIES:Green Maintenance
END:VEVENT
BEGIN:VEVENT
DTSTART;TZID=Europe/Paris:20260509T100000
DTEND;TZID=Europe/Paris:20260509T120000
DTSTAMP:20260420T133504
CREATED:20250330T161341Z
LAST-MODIFIED:20260420T083201Z
UID:2277-1778320800-1778328000@blackhallbc.com
SUMMARY:Saturday Coaching
DESCRIPTION:
URL:https://blackhallbc.com/event/saturday-coaching-3/
CATEGORIES:Club Meetings
END:VEVENT
BEGIN:VEVENT
DTSTART;VALUE=DATE:20260510
DTEND;VALUE=DATE:20260511
DTSTAMP:20260420T133504
CREATED:20250421T112206Z
LAST-MODIFIED:20260128T142848Z
UID:2635-1778371200-1778457599@blackhallbc.com
SUMMARY:Green Open
DESCRIPTION:
URL:https://blackhallbc.com/event/green-open-20/
CATEGORIES:Green Maintenance
END:VEVENT
BEGIN:VEVENT
DTSTART;VALUE=DATE:20260511
DTEND;VALUE=DATE:20260512
DTSTAMP:20260420T133504
CREATED:20250421T112301Z
LAST-MODIFIED:20260128T142811Z
UID:2637-1778457600-1778543999@blackhallbc.com
SUMMARY:Green Open
DESCRIPTION:
URL:https://blackhallbc.com/event/green-open-21/
CATEGORIES:Green Maintenance
END:VEVENT
BEGIN:VEVENT
DTSTART;TZID=Europe/Paris:20260511T110000
DTEND;TZID=Europe/Paris:20260511T123000
DTSTAMP:20260420T133504
CREATED:20260411T075615Z
LAST-MODIFIED:20260411T075615Z
UID:3922-1778497200-1778502600@blackhallbc.com
SUMMARY:Ladies Committee Meeting
DESCRIPTION:
URL:https://blackhallbc.com/event/ladies-committee-meeting-4/
CATEGORIES:Club Meetings
END:VEVENT
BEGIN:VEVENT
DTSTART;TZID=Europe/Paris:20260511T180000
DTEND;TZID=Europe/Paris:20260511T230000
DTSTAMP:20260420T133504
CREATED:20250327T185818Z
LAST-MODIFIED:20260128T092413Z
UID:2197-1778522400-1778540400@blackhallbc.com
SUMMARY:Hat Night
DESCRIPTION:
URL:https://blackhallbc.com/event/hat-night-4/
CATEGORIES:Social
END:VEVENT
BEGIN:VEVENT
DTSTART;VALUE=DATE:20260512
DTEND;VALUE=DATE:20260513
DTSTAMP:20260420T133504
CREATED:20250421T112323Z
LAST-MODIFIED:20260128T142720Z
UID:2639-1778544000-1778630399@blackhallbc.com
SUMMARY:Green Open
DESCRIPTION:
URL:https://blackhallbc.com/event/green-open-22/
CATEGORIES:Green Maintenance
END:VEVENT
BEGIN:VEVENT
DTSTART;TZID=Europe/Paris:20260512T133000
DTEND;TZID=Europe/Paris:20260512T163000
DTSTAMP:20260420T133504
CREATED:20250327T170817Z
LAST-MODIFIED:20260420T090333Z
UID:2140-1778592600-1778603400@blackhallbc.com
SUMMARY:North West Senior League Queensberry A vs Blackhall
DESCRIPTION:
URL:https://blackhallbc.com/event/north-west-senior-league-blackhall-vs-goldenacre/
CATEGORIES:League & Away Games
END:VEVENT
BEGIN:VEVENT
DTSTART;VALUE=DATE:20260513
DTEND;VALUE=DATE:20260514
DTSTAMP:20260420T133504
CREATED:20250421T112341Z
LAST-MODIFIED:20260128T142644Z
UID:2641-1778630400-1778716799@blackhallbc.com
SUMMARY:Green Open
DESCRIPTION:
URL:https://blackhallbc.com/event/green-open-23/
CATEGORIES:Green Maintenance
END:VEVENT
BEGIN:VEVENT
DTSTART;TZID=Europe/Paris:20260513T140000
DTEND;TZID=Europe/Paris:20260513T163000
DTSTAMP:20260420T133504
CREATED:20250330T164247Z
LAST-MODIFIED:20260128T094102Z
UID:2325-1778680800-1778689800@blackhallbc.com
SUMMARY:Wednesday Hat
DESCRIPTION:If playing please sign in by 1:45
URL:https://blackhallbc.com/event/wednesday-hat-4/
CATEGORIES:Social
END:VEVENT
BEGIN:VEVENT
DTSTART;TZID=Europe/Paris:20260513T183000
DTEND;TZID=Europe/Paris:20260513T233000
DTSTAMP:20260420T133504
CREATED:20250319T120743Z
LAST-MODIFIED:20260420T082630Z
UID:2044-1778697000-1778715000@blackhallbc.com
SUMMARY:EBA Wednesday Blackhall vs Trinity
DESCRIPTION:
URL:https://blackhallbc.com/event/liberton-vs-blackhall/
CATEGORIES:League & Away Games
END:VEVENT
BEGIN:VEVENT
DTSTART;VALUE=DATE:20260514
DTEND;VALUE=DATE:20260515
DTSTAMP:20260420T133504
CREATED:20250421T112358Z
LAST-MODIFIED:20260128T142607Z
UID:2643-1778716800-1778803199@blackhallbc.com
SUMMARY:Green Open
DESCRIPTION:
URL:https://blackhallbc.com/event/green-open-24/
CATEGORIES:Green Maintenance
END:VEVENT
BEGIN:VEVENT
DTSTART;TZID=Europe/Paris:20260514T133000
DTEND;TZID=Europe/Paris:20260514T170000
DTSTAMP:20260420T133504
CREATED:20250327T172136Z
LAST-MODIFIED:20260420T104805Z
UID:2163-1778765400-1778778000@blackhallbc.com
SUMMARY:North West League Blackhall vs Parkside
DESCRIPTION:
URL:https://blackhallbc.com/event/north-west-league-blackhall-vs-maitland/
CATEGORIES:League & Away Games
END:VEVENT
BEGIN:VEVENT
DTSTART;VALUE=DATE:20260515
DTEND;VALUE=DATE:20260516
DTSTAMP:20260420T133504
CREATED:20250421T112425Z
LAST-MODIFIED:20260128T142536Z
UID:2645-1778803200-1778889599@blackhallbc.com
SUMMARY:Green Open
DESCRIPTION:
URL:https://blackhallbc.com/event/green-open-25/
CATEGORIES:Green Maintenance
END:VEVENT
BEGIN:VEVENT
DTSTART;TZID=Europe/Paris:20260515T133000
DTEND;TZID=Europe/Paris:20260515T170000
DTSTAMP:20260420T133504
CREATED:20250327T184449Z
LAST-MODIFIED:20260420T075225Z
UID:2181-1778851800-1778864400@blackhallbc.com
SUMMARY:Forth League Wardie vs Blackhall
DESCRIPTION:
URL:https://blackhallbc.com/event/forth-league-blackhall-vs-maitland/
CATEGORIES:League & Away Games
END:VEVENT
BEGIN:VEVENT
DTSTART;VALUE=DATE:20260516
DTEND;VALUE=DATE:20260517
DTSTAMP:20260420T133504
CREATED:20250421T112453Z
LAST-MODIFIED:20260128T142446Z
UID:2647-1778889600-1778975999@blackhallbc.com
SUMMARY:Green Open
DESCRIPTION:
URL:https://blackhallbc.com/event/green-open-26/
CATEGORIES:Green Maintenance
END:VEVENT
BEGIN:VEVENT
DTSTART;TZID=Europe/Paris:20260516T100000
DTEND;TZID=Europe/Paris:20260516T120000
DTSTAMP:20260420T133504
CREATED:20250330T161102Z
LAST-MODIFIED:20260420T083944Z
UID:2273-1778925600-1778932800@blackhallbc.com
SUMMARY:Saturday Coaching
DESCRIPTION:
URL:https://blackhallbc.com/event/saturday-coaching/
CATEGORIES:Club Meetings
END:VEVENT
BEGIN:VEVENT
DTSTART;TZID=Europe/Paris:20260516T140000
DTEND;TZID=Europe/Paris:20260516T170000
DTSTAMP:20260420T133504
CREATED:20250228T173637Z
LAST-MODIFIED:20260128T125328Z
UID:1788-1778940000-1778950800@blackhallbc.com
SUMMARY:Bowling\, Afternoon Tea
DESCRIPTION:
URL:https://blackhallbc.com/event/bowling-afternoon-tea-bingo/
CATEGORIES:Social
END:VEVENT
END:VCALENDAR