BEGIN:VCALENDAR
VERSION:2.0
PRODID:-//Blackhall Bowling Club - ECPv6.15.20//NONSGML v1.0//EN
CALSCALE:GREGORIAN
METHOD:PUBLISH
X-WR-CALNAME:Blackhall Bowling Club
X-ORIGINAL-URL:https://blackhallbc.com
X-WR-CALDESC:Events for Blackhall Bowling Club
REFRESH-INTERVAL;VALUE=DURATION:PT1H
X-Robots-Tag:noindex
X-PUBLISHED-TTL:PT1H
BEGIN:VTIMEZONE
TZID:Europe/Paris
BEGIN:DAYLIGHT
TZOFFSETFROM:+0100
TZOFFSETTO:+0200
TZNAME:CEST
DTSTART:20240331T010000
END:DAYLIGHT
BEGIN:STANDARD
TZOFFSETFROM:+0200
TZOFFSETTO:+0100
TZNAME:CET
DTSTART:20241027T010000
END:STANDARD
BEGIN:DAYLIGHT
TZOFFSETFROM:+0100
TZOFFSETTO:+0200
TZNAME:CEST
DTSTART:20250330T010000
END:DAYLIGHT
BEGIN:STANDARD
TZOFFSETFROM:+0200
TZOFFSETTO:+0100
TZNAME:CET
DTSTART:20251026T010000
END:STANDARD
BEGIN:DAYLIGHT
TZOFFSETFROM:+0100
TZOFFSETTO:+0200
TZNAME:CEST
DTSTART:20260329T010000
END:DAYLIGHT
BEGIN:STANDARD
TZOFFSETFROM:+0200
TZOFFSETTO:+0100
TZNAME:CET
DTSTART:20261025T010000
END:STANDARD
END:VTIMEZONE
BEGIN:VEVENT
DTSTART;TZID=Europe/Paris:20250619T133000
DTEND;TZID=Europe/Paris:20250619T170000
DTSTAMP:20260420T115924
CREATED:20250327T172311Z
LAST-MODIFIED:20250411T075904Z
UID:2167-1750339800-1750352400@blackhallbc.com
SUMMARY:North West League Blackhall vs Dean Teams A & C
DESCRIPTION:
URL:https://blackhallbc.com/event/north-west-league-blackhall-vs-dean/
CATEGORIES:League & Away Games
END:VEVENT
BEGIN:VEVENT
DTSTART;TZID=Europe/Paris:20250616T133000
DTEND;TZID=Europe/Paris:20250616T170000
DTSTAMP:20260420T115924
CREATED:20250331T170652Z
LAST-MODIFIED:20250413T131717Z
UID:2365-1750080600-1750093200@blackhallbc.com
SUMMARY:Heather League Blackhall vs Banfield Home & Away
DESCRIPTION:
URL:https://blackhallbc.com/event/heather-league-vs-6/
CATEGORIES:League & Away Games
END:VEVENT
BEGIN:VEVENT
DTSTART;TZID=Europe/Paris:20250612T133000
DTEND;TZID=Europe/Paris:20250612T170000
DTSTAMP:20260420T115924
CREATED:20250411T080914Z
LAST-MODIFIED:20250411T080914Z
UID:2501-1749735000-1749747600@blackhallbc.com
SUMMARY:North West League Trinity vs Blackhall Teams A & B
DESCRIPTION:
URL:https://blackhallbc.com/event/north-west-league-trinity-vs-blackhall-teams-a-b/
CATEGORIES:League & Away Games
END:VEVENT
BEGIN:VEVENT
DTSTART;TZID=Europe/Paris:20250609T133000
DTEND;TZID=Europe/Paris:20250609T170000
DTSTAMP:20260420T115924
CREATED:20250331T170607Z
LAST-MODIFIED:20250413T131816Z
UID:2363-1749475800-1749488400@blackhallbc.com
SUMMARY:Heather League Blackhall vs Corstorphine Home & Away
DESCRIPTION:
URL:https://blackhallbc.com/event/heather-league-vs-5/
CATEGORIES:League & Away Games
END:VEVENT
BEGIN:VEVENT
DTSTART;TZID=Europe/Paris:20250605T133000
DTEND;TZID=Europe/Paris:20250605T170000
DTSTAMP:20260420T115924
CREATED:20250327T172222Z
LAST-MODIFIED:20250411T075757Z
UID:2165-1749130200-1749142800@blackhallbc.com
SUMMARY:North West League Blackhall vs Parkside Teams B & C
DESCRIPTION:
URL:https://blackhallbc.com/event/north-west-league-blackhall-vs-parkside/
CATEGORIES:League & Away Games
END:VEVENT
BEGIN:VEVENT
DTSTART;TZID=Europe/Paris:20250602T133000
DTEND;TZID=Europe/Paris:20250602T170000
DTSTAMP:20260420T115924
CREATED:20250331T170531Z
LAST-MODIFIED:20250413T132157Z
UID:2361-1748871000-1748883600@blackhallbc.com
SUMMARY:Heather League Blackhall vs Coltbridge Home & Away
DESCRIPTION:
URL:https://blackhallbc.com/event/heather-league-vs-4/
CATEGORIES:League & Away Games
END:VEVENT
BEGIN:VEVENT
DTSTART;TZID=Europe/Paris:20250529T133000
DTEND;TZID=Europe/Paris:20250529T170000
DTSTAMP:20260420T115924
CREATED:20250411T080745Z
LAST-MODIFIED:20250411T081021Z
UID:2499-1748525400-1748538000@blackhallbc.com
SUMMARY:North West League Maitland A vs Blackhall Teams A& C
DESCRIPTION:
URL:https://blackhallbc.com/event/north-west-league-maitland-a-vs-blackhall-teams-a-c/
CATEGORIES:League & Away Games
END:VEVENT
BEGIN:VEVENT
DTSTART;TZID=Europe/Paris:20250522T133000
DTEND;TZID=Europe/Paris:20250522T170000
DTSTAMP:20260420T115924
CREATED:20250411T080457Z
LAST-MODIFIED:20250411T080457Z
UID:2496-1747920600-1747933200@blackhallbc.com
SUMMARY:North West League Goldenacre vs Blackhall Teams A & B
DESCRIPTION:
URL:https://blackhallbc.com/event/north-west-league-goldenacre-vs-blackhall-teams-a-b/
CATEGORIES:League & Away Games
END:VEVENT
BEGIN:VEVENT
DTSTART;TZID=Europe/Paris:20250519T133000
DTEND;TZID=Europe/Paris:20250519T170000
DTSTAMP:20260420T115924
CREATED:20250331T170439Z
LAST-MODIFIED:20250413T132249Z
UID:2359-1747661400-1747674000@blackhallbc.com
SUMMARY:Heather League Blackhall vs Colinton
DESCRIPTION:
URL:https://blackhallbc.com/event/heather-league-vs-3/
CATEGORIES:League & Away Games
END:VEVENT
BEGIN:VEVENT
DTSTART;TZID=Europe/Paris:20250505T133000
DTEND;TZID=Europe/Paris:20250505T170000
DTSTAMP:20260420T115924
CREATED:20250331T170358Z
LAST-MODIFIED:20250413T132429Z
UID:2357-1746451800-1746464400@blackhallbc.com
SUMMARY:Heather League Blackhall vs Carrick Knowe
DESCRIPTION:
URL:https://blackhallbc.com/event/heather-league-vs-2/
CATEGORIES:League & Away Games
END:VEVENT
BEGIN:VEVENT
DTSTART;TZID=Europe/Paris:20250428T133000
DTEND;TZID=Europe/Paris:20250428T170000
DTSTAMP:20260420T115924
CREATED:20250331T170309Z
LAST-MODIFIED:20250413T132524Z
UID:2355-1745847000-1745859600@blackhallbc.com
SUMMARY:Heather League Blackhall vs Bainfield Home & Away
DESCRIPTION:
URL:https://blackhallbc.com/event/heather-league-vs/
CATEGORIES:League & Away Games
END:VEVENT
END:VCALENDAR