BEGIN:VCALENDAR
VERSION:2.0
PRODID:-//Blackhall Bowling Club - ECPv6.15.20//NONSGML v1.0//EN
CALSCALE:GREGORIAN
METHOD:PUBLISH
X-ORIGINAL-URL:https://blackhallbc.com
X-WR-CALDESC:Events for Blackhall Bowling Club
REFRESH-INTERVAL;VALUE=DURATION:PT1H
X-Robots-Tag:noindex
X-PUBLISHED-TTL:PT1H
BEGIN:VTIMEZONE
TZID:Europe/Paris
BEGIN:DAYLIGHT
TZOFFSETFROM:+0100
TZOFFSETTO:+0200
TZNAME:CEST
DTSTART:20250330T010000
END:DAYLIGHT
BEGIN:STANDARD
TZOFFSETFROM:+0200
TZOFFSETTO:+0100
TZNAME:CET
DTSTART:20251026T010000
END:STANDARD
BEGIN:DAYLIGHT
TZOFFSETFROM:+0100
TZOFFSETTO:+0200
TZNAME:CEST
DTSTART:20260329T010000
END:DAYLIGHT
BEGIN:STANDARD
TZOFFSETFROM:+0200
TZOFFSETTO:+0100
TZNAME:CET
DTSTART:20261025T010000
END:STANDARD
BEGIN:DAYLIGHT
TZOFFSETFROM:+0100
TZOFFSETTO:+0200
TZNAME:CEST
DTSTART:20270328T010000
END:DAYLIGHT
BEGIN:STANDARD
TZOFFSETFROM:+0200
TZOFFSETTO:+0100
TZNAME:CET
DTSTART:20271031T010000
END:STANDARD
END:VTIMEZONE
BEGIN:VEVENT
DTSTART;TZID=Europe/Paris:20260525T183000
DTEND;TZID=Europe/Paris:20260525T233000
DTSTAMP:20260420T133520
CREATED:20250327T190050Z
LAST-MODIFIED:20260128T092559Z
UID:2201-1779733800-1779751800@blackhallbc.com
SUMMARY:Hat Night
DESCRIPTION:
URL:https://blackhallbc.com/event/hat-night-6/
CATEGORIES:Social
END:VEVENT
BEGIN:VEVENT
DTSTART;TZID=Europe/Paris:20260527T140000
DTEND;TZID=Europe/Paris:20260527T163000
DTSTAMP:20260420T133520
CREATED:20250330T164500Z
LAST-MODIFIED:20260128T094225Z
UID:2329-1779890400-1779899400@blackhallbc.com
SUMMARY:Wednesday Hat
DESCRIPTION:If you are playing please sign in by 1:45
URL:https://blackhallbc.com/event/wednesday-hat-6/
CATEGORIES:Social
END:VEVENT
BEGIN:VEVENT
DTSTART;TZID=Europe/Paris:20260601T183000
DTEND;TZID=Europe/Paris:20260601T230000
DTSTAMP:20260420T133520
CREATED:20250327T190139Z
LAST-MODIFIED:20260128T092641Z
UID:2203-1780338600-1780354800@blackhallbc.com
SUMMARY:Hat Night
DESCRIPTION:
URL:https://blackhallbc.com/event/hat-night-7/
CATEGORIES:Social
END:VEVENT
BEGIN:VEVENT
DTSTART;TZID=Europe/Paris:20260603T140000
DTEND;TZID=Europe/Paris:20260603T163000
DTSTAMP:20260420T133520
CREATED:20250330T164620Z
LAST-MODIFIED:20260128T094300Z
UID:2331-1780495200-1780504200@blackhallbc.com
SUMMARY:Wednesday Hat
DESCRIPTION:If you are playing please sign in by 1:45pm
URL:https://blackhallbc.com/event/wednesday-hat-7/
CATEGORIES:Social
END:VEVENT
BEGIN:VEVENT
DTSTART;TZID=Europe/Paris:20260608T183000
DTEND;TZID=Europe/Paris:20260608T233000
DTSTAMP:20260420T133520
CREATED:20250327T190259Z
LAST-MODIFIED:20260128T092725Z
UID:2205-1780943400-1780961400@blackhallbc.com
SUMMARY:Hat Night
DESCRIPTION:
URL:https://blackhallbc.com/event/hat-night-8/
CATEGORIES:Social
END:VEVENT
BEGIN:VEVENT
DTSTART;TZID=Europe/Paris:20260610T140000
DTEND;TZID=Europe/Paris:20260610T163000
DTSTAMP:20260420T133520
CREATED:20250330T164759Z
LAST-MODIFIED:20260128T094347Z
UID:2333-1781100000-1781109000@blackhallbc.com
SUMMARY:Wednesday Hat
DESCRIPTION:If you are playing please sign in by1:45
URL:https://blackhallbc.com/event/wednesday-hat-8/
CATEGORIES:Social
END:VEVENT
BEGIN:VEVENT
DTSTART;TZID=Europe/Paris:20260615T183000
DTEND;TZID=Europe/Paris:20260615T233000
DTSTAMP:20260420T133520
CREATED:20250327T191402Z
LAST-MODIFIED:20260128T092806Z
UID:2210-1781548200-1781566200@blackhallbc.com
SUMMARY:Hat Night
DESCRIPTION:
URL:https://blackhallbc.com/event/hat-night-10/
CATEGORIES:Social
END:VEVENT
BEGIN:VEVENT
DTSTART;TZID=Europe/Paris:20260620T150000
DTEND;TZID=Europe/Paris:20260620T220000
DTSTAMP:20260420T133520
CREATED:20260128T122407Z
LAST-MODIFIED:20260128T122407Z
UID:3693-1781967600-1781992800@blackhallbc.com
SUMMARY:Bowls Fish and Chips
DESCRIPTION:
URL:https://blackhallbc.com/event/bowls-fish-and-chips/
CATEGORIES:Social
END:VEVENT
BEGIN:VEVENT
DTSTART;TZID=Europe/Paris:20260622T183000
DTEND;TZID=Europe/Paris:20260622T233000
DTSTAMP:20260420T133520
CREATED:20250327T191647Z
LAST-MODIFIED:20260128T092838Z
UID:2214-1782153000-1782171000@blackhallbc.com
SUMMARY:Hat Night
DESCRIPTION:
URL:https://blackhallbc.com/event/hat-night-11/
CATEGORIES:Social
END:VEVENT
BEGIN:VEVENT
DTSTART;TZID=Europe/Paris:20260624T140000
DTEND;TZID=Europe/Paris:20260624T163000
DTSTAMP:20260420T133520
CREATED:20250330T164853Z
LAST-MODIFIED:20260128T094609Z
UID:2335-1782309600-1782318600@blackhallbc.com
SUMMARY:Wednesday Hat
DESCRIPTION:If you are playing please sign in by 1:45
URL:https://blackhallbc.com/event/wednesday-hat-9/
CATEGORIES:Social
END:VEVENT
BEGIN:VEVENT
DTSTART;TZID=Europe/Paris:20260629T183000
DTEND;TZID=Europe/Paris:20260629T233000
DTSTAMP:20260420T133520
CREATED:20250327T191737Z
LAST-MODIFIED:20260128T092908Z
UID:2216-1782757800-1782775800@blackhallbc.com
SUMMARY:Hat Night
DESCRIPTION:
URL:https://blackhallbc.com/event/hat-night-12/
CATEGORIES:Social
END:VEVENT
BEGIN:VEVENT
DTSTART;TZID=Europe/Paris:20260701T140000
DTEND;TZID=Europe/Paris:20260701T163000
DTSTAMP:20260420T133520
CREATED:20250421T075919Z
LAST-MODIFIED:20260128T094804Z
UID:2563-1782914400-1782923400@blackhallbc.com
SUMMARY:Wednesday Hat
DESCRIPTION:If you are playing please sign in by 1:45
URL:https://blackhallbc.com/event/wednesday-hat/
CATEGORIES:Social
END:VEVENT
BEGIN:VEVENT
DTSTART;TZID=Europe/Paris:20260706T183000
DTEND;TZID=Europe/Paris:20260706T233000
DTSTAMP:20260420T133520
CREATED:20250327T192015Z
LAST-MODIFIED:20260128T092954Z
UID:2218-1783362600-1783380600@blackhallbc.com
SUMMARY:Hat Night
DESCRIPTION:
URL:https://blackhallbc.com/event/hat-night-9/
CATEGORIES:Social
END:VEVENT
BEGIN:VEVENT
DTSTART;TZID=Europe/Paris:20260708T140000
DTEND;TZID=Europe/Paris:20260708T163000
DTSTAMP:20260420T133520
CREATED:20250421T080410Z
LAST-MODIFIED:20260128T094849Z
UID:2562-1783519200-1783528200@blackhallbc.com
SUMMARY:Wednesday Hat
DESCRIPTION:If you are playing please sign in by 1:45
URL:https://blackhallbc.com/event/wednesday-hat-11/
CATEGORIES:Social
END:VEVENT
BEGIN:VEVENT
DTSTART;TZID=Europe/Paris:20260713T180000
DTEND;TZID=Europe/Paris:20260713T233000
DTSTAMP:20260420T133520
CREATED:20250327T192108Z
LAST-MODIFIED:20260128T093029Z
UID:2220-1783965600-1783985400@blackhallbc.com
SUMMARY:Hat Night
DESCRIPTION:
URL:https://blackhallbc.com/event/hat-night-13/
CATEGORIES:Social
END:VEVENT
BEGIN:VEVENT
DTSTART;VALUE=DATE:20260718
DTEND;VALUE=DATE:20260719
DTSTAMP:20260420T133520
CREATED:20260128T122009Z
LAST-MODIFIED:20260128T122009Z
UID:3691-1784332800-1784419199@blackhallbc.com
SUMMARY:Bowls Fun Day
DESCRIPTION:
URL:https://blackhallbc.com/event/bowls-fun-day/
CATEGORIES:Social
END:VEVENT
BEGIN:VEVENT
DTSTART;TZID=Europe/Paris:20260720T180000
DTEND;TZID=Europe/Paris:20260720T233000
DTSTAMP:20260420T133520
CREATED:20250327T192155Z
LAST-MODIFIED:20260128T093112Z
UID:2222-1784570400-1784590200@blackhallbc.com
SUMMARY:Hat Night
DESCRIPTION:
URL:https://blackhallbc.com/event/hat-night-14/
CATEGORIES:Social
END:VEVENT
BEGIN:VEVENT
DTSTART;TZID=Europe/Paris:20260722T140000
DTEND;TZID=Europe/Paris:20260722T163000
DTSTAMP:20260420T133520
CREATED:20250421T080541Z
LAST-MODIFIED:20260128T094949Z
UID:2567-1784728800-1784737800@blackhallbc.com
SUMMARY:Wednesday Hat
DESCRIPTION:If you are playing please sign in by 1:45
URL:https://blackhallbc.com/event/wednesday-hat-12/
CATEGORIES:Social
END:VEVENT
BEGIN:VEVENT
DTSTART;TZID=Europe/Paris:20260727T183000
DTEND;TZID=Europe/Paris:20260727T233000
DTSTAMP:20260420T133520
CREATED:20250327T192241Z
LAST-MODIFIED:20260128T093148Z
UID:2224-1785177000-1785195000@blackhallbc.com
SUMMARY:Hat Night
DESCRIPTION:
URL:https://blackhallbc.com/event/hat-night-15/
CATEGORIES:Social
END:VEVENT
BEGIN:VEVENT
DTSTART;TZID=Europe/Paris:20260729T140000
DTEND;TZID=Europe/Paris:20260729T163000
DTSTAMP:20260420T133520
CREATED:20250421T080706Z
LAST-MODIFIED:20260128T095050Z
UID:2569-1785333600-1785342600@blackhallbc.com
SUMMARY:Wednesday Hat
DESCRIPTION:If you are playing please sign in by 1:45
URL:https://blackhallbc.com/event/wednesday-hat-13/
CATEGORIES:Social
END:VEVENT
BEGIN:VEVENT
DTSTART;TZID=Europe/Paris:20260803T183000
DTEND;TZID=Europe/Paris:20260803T233000
DTSTAMP:20260420T133520
CREATED:20250327T192358Z
LAST-MODIFIED:20260128T093253Z
UID:2226-1785781800-1785799800@blackhallbc.com
SUMMARY:Hat Night
DESCRIPTION:
URL:https://blackhallbc.com/event/hat-night-16/
CATEGORIES:Social
END:VEVENT
BEGIN:VEVENT
DTSTART;TZID=Europe/Paris:20260805T140000
DTEND;TZID=Europe/Paris:20260805T163000
DTSTAMP:20260420T133520
CREATED:20250421T080800Z
LAST-MODIFIED:20260128T095140Z
UID:2571-1785938400-1785947400@blackhallbc.com
SUMMARY:Wednesday Hat
DESCRIPTION:If you are playing please sign in by 1:45
URL:https://blackhallbc.com/event/wednesday-hat-14/
CATEGORIES:Social
END:VEVENT
BEGIN:VEVENT
DTSTART;TZID=Europe/Paris:20260810T183000
DTEND;TZID=Europe/Paris:20260810T183000
DTSTAMP:20260420T133520
CREATED:20250327T192551Z
LAST-MODIFIED:20260128T093401Z
UID:2230-1786386600-1786386600@blackhallbc.com
SUMMARY:Hat Night
DESCRIPTION:
URL:https://blackhallbc.com/event/hat-night-17/
CATEGORIES:Social
END:VEVENT
BEGIN:VEVENT
DTSTART;TZID=Europe/Paris:20260812T140000
DTEND;TZID=Europe/Paris:20260812T163000
DTSTAMP:20260420T133520
CREATED:20250421T081018Z
LAST-MODIFIED:20260128T095256Z
UID:2573-1786543200-1786552200@blackhallbc.com
SUMMARY:Wednesday Hat
DESCRIPTION:If you are playing please sign in by 1:45
URL:https://blackhallbc.com/event/wednesday-hat-15/
CATEGORIES:Social
END:VEVENT
BEGIN:VEVENT
DTSTART;TZID=Europe/Paris:20260817T183000
DTEND;TZID=Europe/Paris:20260817T233000
DTSTAMP:20260420T133520
CREATED:20250327T192631Z
LAST-MODIFIED:20260128T093445Z
UID:2232-1786991400-1787009400@blackhallbc.com
SUMMARY:Hat Night
DESCRIPTION:
URL:https://blackhallbc.com/event/hat-night-18/
CATEGORIES:Social
END:VEVENT
BEGIN:VEVENT
DTSTART;TZID=Europe/Paris:20260819T140000
DTEND;TZID=Europe/Paris:20260819T163000
DTSTAMP:20260420T133520
CREATED:20260128T095415Z
LAST-MODIFIED:20260128T095415Z
UID:3620-1787148000-1787157000@blackhallbc.com
SUMMARY:Wednesday Hat
DESCRIPTION:
URL:https://blackhallbc.com/event/wednesday-hat-10/
CATEGORIES:Social
END:VEVENT
BEGIN:VEVENT
DTSTART;TZID=Europe/Paris:20260824T183000
DTEND;TZID=Europe/Paris:20260824T233000
DTSTAMP:20260420T133520
CREATED:20250327T192709Z
LAST-MODIFIED:20260128T093514Z
UID:2234-1787596200-1787614200@blackhallbc.com
SUMMARY:Hat Night
DESCRIPTION:
URL:https://blackhallbc.com/event/hat-night-19/
CATEGORIES:Social
END:VEVENT
BEGIN:VEVENT
DTSTART;TZID=Europe/Paris:20260826T080000
DTEND;TZID=Europe/Paris:20260826T170000
DTSTAMP:20260420T133520
CREATED:20260128T095451Z
LAST-MODIFIED:20260128T095451Z
UID:3622-1787731200-1787763600@blackhallbc.com
SUMMARY:Wednesday Hat
DESCRIPTION:
URL:https://blackhallbc.com/event/wednesday-hat-16/
CATEGORIES:Social
END:VEVENT
BEGIN:VEVENT
DTSTART;TZID=Europe/Paris:20260831T180000
DTEND;TZID=Europe/Paris:20260831T233000
DTSTAMP:20260420T133520
CREATED:20250327T192917Z
LAST-MODIFIED:20260128T093600Z
UID:2238-1788199200-1788219000@blackhallbc.com
SUMMARY:Hat Night
DESCRIPTION:
URL:https://blackhallbc.com/event/hat-night-21/
CATEGORIES:Social
END:VEVENT
BEGIN:VEVENT
DTSTART;TZID=Europe/Paris:20260902T140000
DTEND;TZID=Europe/Paris:20260902T163000
DTSTAMP:20260420T133520
CREATED:20260128T095530Z
LAST-MODIFIED:20260128T095530Z
UID:3624-1788357600-1788366600@blackhallbc.com
SUMMARY:Wednesday Hat
DESCRIPTION:
URL:https://blackhallbc.com/event/wednesday-hat-17/
CATEGORIES:Social
END:VEVENT
END:VCALENDAR