BEGIN:VCALENDAR
VERSION:2.0
PRODID:-//Blackhall Bowling Club - ECPv6.15.20//NONSGML v1.0//EN
CALSCALE:GREGORIAN
METHOD:PUBLISH
X-ORIGINAL-URL:https://blackhallbc.com
X-WR-CALDESC:Events for Blackhall Bowling Club
REFRESH-INTERVAL;VALUE=DURATION:PT1H
X-Robots-Tag:noindex
X-PUBLISHED-TTL:PT1H
BEGIN:VTIMEZONE
TZID:Europe/Paris
BEGIN:DAYLIGHT
TZOFFSETFROM:+0100
TZOFFSETTO:+0200
TZNAME:CEST
DTSTART:20250330T010000
END:DAYLIGHT
BEGIN:STANDARD
TZOFFSETFROM:+0200
TZOFFSETTO:+0100
TZNAME:CET
DTSTART:20251026T010000
END:STANDARD
BEGIN:DAYLIGHT
TZOFFSETFROM:+0100
TZOFFSETTO:+0200
TZNAME:CEST
DTSTART:20260329T010000
END:DAYLIGHT
BEGIN:STANDARD
TZOFFSETFROM:+0200
TZOFFSETTO:+0100
TZNAME:CET
DTSTART:20261025T010000
END:STANDARD
BEGIN:DAYLIGHT
TZOFFSETFROM:+0100
TZOFFSETTO:+0200
TZNAME:CEST
DTSTART:20270328T010000
END:DAYLIGHT
BEGIN:STANDARD
TZOFFSETFROM:+0200
TZOFFSETTO:+0100
TZNAME:CET
DTSTART:20271031T010000
END:STANDARD
END:VTIMEZONE
BEGIN:VEVENT
DTSTART;TZID=Europe/Paris:20260322T133000
DTEND;TZID=Europe/Paris:20260322T170000
DTSTAMP:20260421T073510
CREATED:20260128T121320Z
LAST-MODIFIED:20260128T125035Z
UID:3688-1774186200-1774198800@blackhallbc.com
SUMMARY:Club Lunch
DESCRIPTION:
URL:https://blackhallbc.com/event/club-lunch/
CATEGORIES:Social
END:VEVENT
BEGIN:VEVENT
DTSTART;TZID=Europe/Paris:20260324T140000
DTEND;TZID=Europe/Paris:20260324T163000
DTSTAMP:20260421T073510
CREATED:20260323T090642Z
LAST-MODIFIED:20260323T090642Z
UID:3916-1774360800-1774369800@blackhallbc.com
SUMMARY:Table Tennis
DESCRIPTION:
URL:https://blackhallbc.com/event/table-tennis/
CATEGORIES:Social
END:VEVENT
BEGIN:VEVENT
DTSTART;TZID=Europe/Paris:20260325T103000
DTEND;TZID=Europe/Paris:20260325T120000
DTSTAMP:20260421T073510
CREATED:20250930T084513Z
LAST-MODIFIED:20260128T113623Z
UID:3409-1774434600-1774440000@blackhallbc.com
SUMMARY:Ladies' Coffee Morning
DESCRIPTION:
URL:https://blackhallbc.com/event/ladies-coffee-morning-2/
CATEGORIES:Social
END:VEVENT
BEGIN:VEVENT
DTSTART;TZID=Europe/Paris:20260325T140000
DTEND;TZID=Europe/Paris:20260325T163000
DTSTAMP:20260421T073510
CREATED:20260128T114949Z
LAST-MODIFIED:20260305T123912Z
UID:3673-1774447200-1774456200@blackhallbc.com
SUMMARY:Craft and Chat Group (Last one)
DESCRIPTION:
URL:https://blackhallbc.com/event/craft-and-chat-group-10/
CATEGORIES:Social
END:VEVENT
BEGIN:VEVENT
DTSTART;TZID=Europe/Paris:20260326T140000
DTEND;TZID=Europe/Paris:20260326T160000
DTSTAMP:20260421T073510
CREATED:20260128T084410Z
LAST-MODIFIED:20260128T084410Z
UID:3557-1774533600-1774540800@blackhallbc.com
SUMMARY:Bridge
DESCRIPTION:
URL:https://blackhallbc.com/event/bridge-21/
CATEGORIES:Social
END:VEVENT
BEGIN:VEVENT
DTSTART;TZID=Europe/Paris:20260331T140000
DTEND;TZID=Europe/Paris:20260331T160000
DTSTAMP:20260421T073510
CREATED:20260128T085335Z
LAST-MODIFIED:20260128T085335Z
UID:3583-1774965600-1774972800@blackhallbc.com
SUMMARY:Table Tennis
DESCRIPTION:
URL:https://blackhallbc.com/event/table-tennis-27/
CATEGORIES:Social
END:VEVENT
BEGIN:VEVENT
DTSTART;TZID=Europe/Paris:20260401T130000
DTEND;TZID=Europe/Paris:20260401T143000
DTSTAMP:20260421T073510
CREATED:20260128T115019Z
LAST-MODIFIED:20260305T184928Z
UID:3675-1775048400-1775053800@blackhallbc.com
SUMMARY:Craft and Chat Group Winter Term Lunch
DESCRIPTION:The Herringbone for lunch
URL:https://blackhallbc.com/event/craft-and-chat-group-11/
CATEGORIES:Social
END:VEVENT
BEGIN:VEVENT
DTSTART;TZID=Europe/Paris:20260402T140000
DTEND;TZID=Europe/Paris:20260402T160000
DTSTAMP:20260421T073510
CREATED:20260128T084450Z
LAST-MODIFIED:20260128T084450Z
UID:3559-1775138400-1775145600@blackhallbc.com
SUMMARY:Bridge
DESCRIPTION:
URL:https://blackhallbc.com/event/bridge-22/
CATEGORIES:Social
END:VEVENT
BEGIN:VEVENT
DTSTART;TZID=Europe/Paris:20260407T140000
DTEND;TZID=Europe/Paris:20260407T160000
DTSTAMP:20260421T073510
CREATED:20260128T085407Z
LAST-MODIFIED:20260128T085407Z
UID:3585-1775570400-1775577600@blackhallbc.com
SUMMARY:Table Tennis
DESCRIPTION:
URL:https://blackhallbc.com/event/table-tennis-28/
CATEGORIES:Social
END:VEVENT
BEGIN:VEVENT
DTSTART;TZID=Europe/Paris:20260409T140000
DTEND;TZID=Europe/Paris:20260409T160000
DTSTAMP:20260421T073510
CREATED:20260128T084520Z
LAST-MODIFIED:20260128T084520Z
UID:3561-1775743200-1775750400@blackhallbc.com
SUMMARY:Bridge
DESCRIPTION:
URL:https://blackhallbc.com/event/bridge-23/
CATEGORIES:Social
END:VEVENT
BEGIN:VEVENT
DTSTART;TZID=Europe/Paris:20260415T190000
DTEND;TZID=Europe/Paris:20260415T230000
DTSTAMP:20260421T073510
CREATED:20250228T173415Z
LAST-MODIFIED:20260128T123245Z
UID:1785-1776279600-1776294000@blackhallbc.com
SUMMARY:Cheese & Wine
DESCRIPTION:Annual Cheese and Wine on Wednesday 15th April commencing at 7pm
URL:https://blackhallbc.com/event/cheese-wine/
CATEGORIES:Social
END:VEVENT
BEGIN:VEVENT
DTSTART;VALUE=DATE:20260418
DTEND;VALUE=DATE:20260419
DTSTAMP:20260421T073510
CREATED:20250228T170050Z
LAST-MODIFIED:20260128T102540Z
UID:1772-1776470400-1776556799@blackhallbc.com
SUMMARY:Club Opening Day
DESCRIPTION:The game will start at 2pm with the traditional rolling of the silver jack.\nThe bowling will be followed by a catered meal which will be served around 5:30pm. \nA raffle will follow after food. Any donations of raffle prizes will be appreciated.
URL:https://blackhallbc.com/event/opening-day/
CATEGORIES:Social
END:VEVENT
BEGIN:VEVENT
DTSTART;TZID=Europe/Paris:20260420T174500
DTEND;TZID=Europe/Paris:20260420T223000
DTSTAMP:20260421T073510
CREATED:20250327T185311Z
LAST-MODIFIED:20260128T092021Z
UID:2190-1776707100-1776724200@blackhallbc.com
SUMMARY:Hat Night
DESCRIPTION:
URL:https://blackhallbc.com/event/hat-night/
CATEGORIES:Social
END:VEVENT
BEGIN:VEVENT
DTSTART;TZID=Europe/Paris:20260422T133000
DTEND;TZID=Europe/Paris:20260422T180000
DTSTAMP:20260421T073510
CREATED:20250228T170307Z
LAST-MODIFIED:20260128T102650Z
UID:1775-1776864600-1776880800@blackhallbc.com
SUMMARY:Ladies Opening Day
DESCRIPTION:All those wishing to play please be at the Club no later than 1.30pm. \nFollowing the game afternoon tea will be served.
URL:https://blackhallbc.com/event/ladies-opening-day/
CATEGORIES:Social
END:VEVENT
BEGIN:VEVENT
DTSTART;TZID=Europe/Paris:20260427T180000
DTEND;TZID=Europe/Paris:20260427T230000
DTSTAMP:20260421T073510
CREATED:20250327T185432Z
LAST-MODIFIED:20260128T092144Z
UID:2192-1777312800-1777330800@blackhallbc.com
SUMMARY:Hat Night
DESCRIPTION:
URL:https://blackhallbc.com/event/hat-night-2/
CATEGORIES:Social
END:VEVENT
BEGIN:VEVENT
DTSTART;TZID=Europe/Paris:20260429T140000
DTEND;TZID=Europe/Paris:20260429T163000
DTSTAMP:20260421T073510
CREATED:20250330T164047Z
LAST-MODIFIED:20260128T093904Z
UID:2321-1777471200-1777480200@blackhallbc.com
SUMMARY:Wednesday Hat
DESCRIPTION:If you are playing please sign in by 1:45
URL:https://blackhallbc.com/event/wednesday-hat-2/
CATEGORIES:Social
END:VEVENT
BEGIN:VEVENT
DTSTART;TZID=Europe/Paris:20260504T180000
DTEND;TZID=Europe/Paris:20260504T230000
DTSTAMP:20260421T073510
CREATED:20250327T185700Z
LAST-MODIFIED:20260128T092257Z
UID:2195-1777917600-1777935600@blackhallbc.com
SUMMARY:Hat Night
DESCRIPTION:
URL:https://blackhallbc.com/event/hat-night-3/
CATEGORIES:Social
END:VEVENT
BEGIN:VEVENT
DTSTART;TZID=Europe/Paris:20260506T140000
DTEND;TZID=Europe/Paris:20260506T163000
DTSTAMP:20260421T073510
CREATED:20250330T164156Z
LAST-MODIFIED:20260128T094032Z
UID:2323-1778076000-1778085000@blackhallbc.com
SUMMARY:Wednesday Hat
DESCRIPTION:If playing please sign in by 1:45pm
URL:https://blackhallbc.com/event/wednesday-hat-3/
CATEGORIES:Social
END:VEVENT
BEGIN:VEVENT
DTSTART;TZID=Europe/Paris:20260511T180000
DTEND;TZID=Europe/Paris:20260511T230000
DTSTAMP:20260421T073510
CREATED:20250327T185818Z
LAST-MODIFIED:20260128T092413Z
UID:2197-1778522400-1778540400@blackhallbc.com
SUMMARY:Hat Night
DESCRIPTION:
URL:https://blackhallbc.com/event/hat-night-4/
CATEGORIES:Social
END:VEVENT
BEGIN:VEVENT
DTSTART;TZID=Europe/Paris:20260513T140000
DTEND;TZID=Europe/Paris:20260513T163000
DTSTAMP:20260421T073510
CREATED:20250330T164247Z
LAST-MODIFIED:20260128T094102Z
UID:2325-1778680800-1778689800@blackhallbc.com
SUMMARY:Wednesday Hat
DESCRIPTION:If playing please sign in by 1:45
URL:https://blackhallbc.com/event/wednesday-hat-4/
CATEGORIES:Social
END:VEVENT
BEGIN:VEVENT
DTSTART;TZID=Europe/Paris:20260516T140000
DTEND;TZID=Europe/Paris:20260516T170000
DTSTAMP:20260421T073510
CREATED:20250228T173637Z
LAST-MODIFIED:20260128T125328Z
UID:1788-1778940000-1778950800@blackhallbc.com
SUMMARY:Bowling\, Afternoon Tea
DESCRIPTION:
URL:https://blackhallbc.com/event/bowling-afternoon-tea-bingo/
CATEGORIES:Social
END:VEVENT
BEGIN:VEVENT
DTSTART;TZID=Europe/Paris:20260518T183000
DTEND;TZID=Europe/Paris:20260518T230000
DTSTAMP:20260421T073510
CREATED:20250327T185901Z
LAST-MODIFIED:20260128T092520Z
UID:2199-1779129000-1779145200@blackhallbc.com
SUMMARY:Hat Night
DESCRIPTION:
URL:https://blackhallbc.com/event/hat-night-5/
CATEGORIES:Social
END:VEVENT
BEGIN:VEVENT
DTSTART;TZID=Europe/Paris:20260520T140000
DTEND;TZID=Europe/Paris:20260520T163000
DTSTAMP:20260421T073510
CREATED:20250330T164408Z
LAST-MODIFIED:20260128T094142Z
UID:2327-1779285600-1779294600@blackhallbc.com
SUMMARY:Wednesday Hat
DESCRIPTION:If you are playing please sign in by 1:45
URL:https://blackhallbc.com/event/wednesday-hat-5/
CATEGORIES:Social
END:VEVENT
BEGIN:VEVENT
DTSTART;TZID=Europe/Paris:20260525T183000
DTEND;TZID=Europe/Paris:20260525T233000
DTSTAMP:20260421T073510
CREATED:20250327T190050Z
LAST-MODIFIED:20260128T092559Z
UID:2201-1779733800-1779751800@blackhallbc.com
SUMMARY:Hat Night
DESCRIPTION:
URL:https://blackhallbc.com/event/hat-night-6/
CATEGORIES:Social
END:VEVENT
BEGIN:VEVENT
DTSTART;TZID=Europe/Paris:20260527T140000
DTEND;TZID=Europe/Paris:20260527T163000
DTSTAMP:20260421T073510
CREATED:20250330T164500Z
LAST-MODIFIED:20260128T094225Z
UID:2329-1779890400-1779899400@blackhallbc.com
SUMMARY:Wednesday Hat
DESCRIPTION:If you are playing please sign in by 1:45
URL:https://blackhallbc.com/event/wednesday-hat-6/
CATEGORIES:Social
END:VEVENT
BEGIN:VEVENT
DTSTART;TZID=Europe/Paris:20260601T183000
DTEND;TZID=Europe/Paris:20260601T230000
DTSTAMP:20260421T073510
CREATED:20250327T190139Z
LAST-MODIFIED:20260128T092641Z
UID:2203-1780338600-1780354800@blackhallbc.com
SUMMARY:Hat Night
DESCRIPTION:
URL:https://blackhallbc.com/event/hat-night-7/
CATEGORIES:Social
END:VEVENT
BEGIN:VEVENT
DTSTART;TZID=Europe/Paris:20260603T140000
DTEND;TZID=Europe/Paris:20260603T163000
DTSTAMP:20260421T073510
CREATED:20250330T164620Z
LAST-MODIFIED:20260128T094300Z
UID:2331-1780495200-1780504200@blackhallbc.com
SUMMARY:Wednesday Hat
DESCRIPTION:If you are playing please sign in by 1:45pm
URL:https://blackhallbc.com/event/wednesday-hat-7/
CATEGORIES:Social
END:VEVENT
BEGIN:VEVENT
DTSTART;TZID=Europe/Paris:20260608T183000
DTEND;TZID=Europe/Paris:20260608T233000
DTSTAMP:20260421T073510
CREATED:20250327T190259Z
LAST-MODIFIED:20260128T092725Z
UID:2205-1780943400-1780961400@blackhallbc.com
SUMMARY:Hat Night
DESCRIPTION:
URL:https://blackhallbc.com/event/hat-night-8/
CATEGORIES:Social
END:VEVENT
BEGIN:VEVENT
DTSTART;TZID=Europe/Paris:20260610T140000
DTEND;TZID=Europe/Paris:20260610T163000
DTSTAMP:20260421T073510
CREATED:20250330T164759Z
LAST-MODIFIED:20260128T094347Z
UID:2333-1781100000-1781109000@blackhallbc.com
SUMMARY:Wednesday Hat
DESCRIPTION:If you are playing please sign in by1:45
URL:https://blackhallbc.com/event/wednesday-hat-8/
CATEGORIES:Social
END:VEVENT
BEGIN:VEVENT
DTSTART;TZID=Europe/Paris:20260615T183000
DTEND;TZID=Europe/Paris:20260615T233000
DTSTAMP:20260421T073510
CREATED:20250327T191402Z
LAST-MODIFIED:20260128T092806Z
UID:2210-1781548200-1781566200@blackhallbc.com
SUMMARY:Hat Night
DESCRIPTION:
URL:https://blackhallbc.com/event/hat-night-10/
CATEGORIES:Social
END:VEVENT
END:VCALENDAR