BEGIN:VCALENDAR
VERSION:2.0
PRODID:-//Blackhall Bowling Club - ECPv6.15.20//NONSGML v1.0//EN
CALSCALE:GREGORIAN
METHOD:PUBLISH
X-WR-CALNAME:Blackhall Bowling Club
X-ORIGINAL-URL:https://blackhallbc.com
X-WR-CALDESC:Events for Blackhall Bowling Club
REFRESH-INTERVAL;VALUE=DURATION:PT1H
X-Robots-Tag:noindex
X-PUBLISHED-TTL:PT1H
BEGIN:VTIMEZONE
TZID:Europe/Paris
BEGIN:DAYLIGHT
TZOFFSETFROM:+0100
TZOFFSETTO:+0200
TZNAME:CEST
DTSTART:20250330T010000
END:DAYLIGHT
BEGIN:STANDARD
TZOFFSETFROM:+0200
TZOFFSETTO:+0100
TZNAME:CET
DTSTART:20251026T010000
END:STANDARD
BEGIN:DAYLIGHT
TZOFFSETFROM:+0100
TZOFFSETTO:+0200
TZNAME:CEST
DTSTART:20260329T010000
END:DAYLIGHT
BEGIN:STANDARD
TZOFFSETFROM:+0200
TZOFFSETTO:+0100
TZNAME:CET
DTSTART:20261025T010000
END:STANDARD
BEGIN:DAYLIGHT
TZOFFSETFROM:+0100
TZOFFSETTO:+0200
TZNAME:CEST
DTSTART:20270328T010000
END:DAYLIGHT
BEGIN:STANDARD
TZOFFSETFROM:+0200
TZOFFSETTO:+0100
TZNAME:CET
DTSTART:20271031T010000
END:STANDARD
END:VTIMEZONE
BEGIN:VEVENT
DTSTART;TZID=Europe/Paris:20260902T140000
DTEND;TZID=Europe/Paris:20260902T163000
DTSTAMP:20260420T101112
CREATED:20260128T095530Z
LAST-MODIFIED:20260128T095530Z
UID:3624-1788357600-1788366600@blackhallbc.com
SUMMARY:Wednesday Hat
DESCRIPTION:
URL:https://blackhallbc.com/event/wednesday-hat-17/
CATEGORIES:Social
END:VEVENT
BEGIN:VEVENT
DTSTART;TZID=Europe/Paris:20260907T180000
DTEND;TZID=Europe/Paris:20260907T233000
DTSTAMP:20260420T101112
CREATED:20250327T192958Z
LAST-MODIFIED:20260128T093643Z
UID:2240-1788804000-1788823800@blackhallbc.com
SUMMARY:Hat Night
DESCRIPTION:
URL:https://blackhallbc.com/event/hat-night-22/
CATEGORIES:Social
END:VEVENT
BEGIN:VEVENT
DTSTART;TZID=Europe/Paris:20260909T140000
DTEND;TZID=Europe/Paris:20260909T163000
DTSTAMP:20260420T101112
CREATED:20260128T095747Z
LAST-MODIFIED:20260128T095802Z
UID:3626-1788962400-1788971400@blackhallbc.com
SUMMARY:Wednesday Hat
DESCRIPTION:
URL:https://blackhallbc.com/event/wednesday-hat-18/
CATEGORIES:Social
END:VEVENT
BEGIN:VEVENT
DTSTART;TZID=Europe/Paris:20260914T180000
DTEND;TZID=Europe/Paris:20260914T233000
DTSTAMP:20260420T101112
CREATED:20250327T193056Z
LAST-MODIFIED:20260128T093719Z
UID:2242-1789408800-1789428600@blackhallbc.com
SUMMARY:Hat Night
DESCRIPTION:
URL:https://blackhallbc.com/event/hat-night-23/
CATEGORIES:Social
END:VEVENT
BEGIN:VEVENT
DTSTART;TZID=Europe/Paris:20260916T140000
DTEND;TZID=Europe/Paris:20260916T163000
DTSTAMP:20260420T101112
CREATED:20260128T095840Z
LAST-MODIFIED:20260128T095907Z
UID:3628-1789567200-1789576200@blackhallbc.com
SUMMARY:Wednesday Hat
DESCRIPTION:
URL:https://blackhallbc.com/event/wednesday-hat-19/
CATEGORIES:Social
END:VEVENT
BEGIN:VEVENT
DTSTART;TZID=Europe/Paris:20260921T174500
DTEND;TZID=Europe/Paris:20260921T233000
DTSTAMP:20260420T101112
CREATED:20250327T193149Z
LAST-MODIFIED:20260128T093753Z
UID:2244-1790012700-1790033400@blackhallbc.com
SUMMARY:Hat Night
DESCRIPTION:
URL:https://blackhallbc.com/event/hat-night-24/
CATEGORIES:Social
END:VEVENT
BEGIN:VEVENT
DTSTART;TZID=Europe/Paris:20260923T133000
DTEND;TZID=Europe/Paris:20260923T170000
DTSTAMP:20260420T101112
CREATED:20250310T130631Z
LAST-MODIFIED:20260128T121040Z
UID:1933-1790170200-1790182800@blackhallbc.com
SUMMARY:Ladies Closing Day
DESCRIPTION:Details to be confirmed
URL:https://blackhallbc.com/event/ladies-closing-day/
CATEGORIES:Social
END:VEVENT
END:VCALENDAR